BEGIN:VCALENDAR
VERSION:2.0
PRODID:-// - ECPv6.1.3//NONSGML v1.0//EN
CALSCALE:GREGORIAN
METHOD:PUBLISH
X-ORIGINAL-URL:https://ortalraisman.co.il
X-WR-CALDESC:Events for 
REFRESH-INTERVAL;VALUE=DURATION:PT1H
X-Robots-Tag:noindex
X-PUBLISHED-TTL:PT1H
BEGIN:VTIMEZONE
TZID:Europe/Moscow
BEGIN:STANDARD
TZOFFSETFROM:+0300
TZOFFSETTO:+0300
TZNAME:MSK
DTSTART:20250101T000000
END:STANDARD
END:VTIMEZONE
BEGIN:VEVENT
DTSTART;TZID=Europe/Moscow:20251005T130000
DTEND;TZID=Europe/Moscow:20251005T163000
DTSTAMP:20260425T010405
CREATED:20210221T104258Z
LAST-MODIFIED:20250909T122531Z
UID:27451-1759669200-1759681800@ortalraisman.co.il
SUMMARY:אתיקה מקצועית: הדין המשמעתי | עו״ד אורטל רייסמן
DESCRIPTION:אינכם בעלי הרשאות גישה מתאימות לתוכן זה!
URL:https://ortalraisman.co.il/event/%d7%90%d7%aa%d7%99%d7%a7%d7%94-%d7%94%d7%93%d7%99%d7%9f-%d7%94%d7%9e%d7%a9%d7%9e%d7%a2%d7%aa%d7%99/
CATEGORIES:כללי,קורס ההכנה לבחינת הלשכה
ATTACH;FMTTYPE=image/png:https://ortalraisman.co.il/wp-content/uploads/2021/01/דף-פנימי-03-1024x1024-1-150x160-1.png
END:VEVENT
END:VCALENDAR