BEGIN:VCALENDAR
VERSION:2.0
PRODID:-// - ECPv6.1.3//NONSGML v1.0//EN
CALSCALE:GREGORIAN
METHOD:PUBLISH
X-ORIGINAL-URL:https://ortalraisman.co.il
X-WR-CALDESC:Events for 
REFRESH-INTERVAL;VALUE=DURATION:PT1H
X-Robots-Tag:noindex
X-PUBLISHED-TTL:PT1H
BEGIN:VTIMEZONE
TZID:Europe/Moscow
BEGIN:STANDARD
TZOFFSETFROM:+0300
TZOFFSETTO:+0300
TZNAME:MSK
DTSTART:20250101T000000
END:STANDARD
END:VTIMEZONE
BEGIN:VEVENT
DTSTART;TZID=Europe/Moscow:20250907T150000
DTEND;TZID=Europe/Moscow:20250907T163000
DTSTAMP:20260425T020859
CREATED:20210418T134846Z
LAST-MODIFIED:20250803T124827Z
UID:29197-1757257200-1757262600@ortalraisman.co.il
SUMMARY:בתי משפט: ערעורים ומותבים במשפט המנהלי | עו״ד אורטל רייסמן
DESCRIPTION:אינכם בעלי הרשאות גישה מתאימות לתוכן זה!
URL:https://ortalraisman.co.il/event/%d7%91%d7%aa%d7%99-%d7%9e%d7%a9%d7%a4%d7%98-%d7%9e%d7%a0%d7%94%d7%9c%d7%99-%d7%a2%d7%a8%d7%a2%d7%95%d7%a8%d7%99%d7%9d-%d7%95%d7%9e%d7%95%d7%aa%d7%91%d7%99%d7%9d/
CATEGORIES:כללי,קורס ההכנה לבחינת הלשכה
ATTACH;FMTTYPE=image/png:https://ortalraisman.co.il/wp-content/uploads/2021/01/דף-פנימי-03-1024x1024-1-150x160-1.png
END:VEVENT
END:VCALENDAR