BEGIN:VCALENDAR
VERSION:2.0
PRODID:-//ortalraisman.co.il - ECPv5.5.0.1//NONSGML v1.0//EN
CALSCALE:GREGORIAN
METHOD:PUBLISH
X-WR-CALNAME:ortalraisman.co.il
X-ORIGINAL-URL:https://ortalraisman.co.il
X-WR-CALDESC:אירועים ל ortalraisman.co.il
BEGIN:VTIMEZONE
TZID:Europe/Moscow
BEGIN:STANDARD
TZOFFSETFROM:+0300
TZOFFSETTO:+0300
TZNAME:MSK
DTSTART:20210101T000000
END:STANDARD
END:VTIMEZONE
BEGIN:VEVENT
DTSTART;TZID=Europe/Moscow:20210420T100000
DTEND;TZID=Europe/Moscow:20210420T140000
DTSTAMP:20210503T011737
CREATED:20210224T154927Z
LAST-MODIFIED:20210407T083305Z
UID:28093-1618912800-1618927200@ortalraisman.co.il
SUMMARY:הוצל"פ - עיקולים והגבלות על החייב
DESCRIPTION:תוכן זה נגיש למנויים בלבד! היכנסו למערכת
URL:https://ortalraisman.co.il/event/%d7%94%d7%95%d7%a6%d7%9c%d7%a4-%d7%a2%d7%99%d7%a7%d7%95%d7%9c%d7%99%d7%9d-%d7%95%d7%94%d7%92%d7%91%d7%9c%d7%95%d7%aa-%d7%a2%d7%9c-%d7%94%d7%97%d7%99%d7%99%d7%91/
CATEGORIES:כללי
ATTACH;FMTTYPE=image/png:https://ortalraisman.co.il/wp-content/uploads/2021/01/דף-פנימי-03-1024x1024-1-150x160-1.png
END:VEVENT
END:VCALENDAR