BEGIN:VCALENDAR
VERSION:2.0
PRODID:-// - ECPv6.1.3//NONSGML v1.0//EN
CALSCALE:GREGORIAN
METHOD:PUBLISH
X-ORIGINAL-URL:https://ortalraisman.co.il
X-WR-CALDESC:Events for 
REFRESH-INTERVAL;VALUE=DURATION:PT1H
X-Robots-Tag:noindex
X-PUBLISHED-TTL:PT1H
BEGIN:VTIMEZONE
TZID:Europe/Moscow
BEGIN:STANDARD
TZOFFSETFROM:+0300
TZOFFSETTO:+0300
TZNAME:MSK
DTSTART:20250101T000000
END:STANDARD
END:VTIMEZONE
BEGIN:VEVENT
DTSTART;TZID=Europe/Moscow:20251021T133000
DTEND;TZID=Europe/Moscow:20251021T170000
DTSTAMP:20260425T020711
CREATED:20210218T084528Z
LAST-MODIFIED:20250909T124651Z
UID:27183-1761053400-1761066000@ortalraisman.co.il
SUMMARY:חוקי יסוד: חלק א' | ד״ר שאולי שארף
DESCRIPTION:אינכם בעלי הרשאות גישה מתאימות לתוכן זה!
URL:https://ortalraisman.co.il/event/%d7%97%d7%95%d7%a7%d7%99-%d7%99%d7%a1%d7%95%d7%93-%d7%97%d7%9c%d7%a7-%d7%90/
CATEGORIES:כללי,קורס ההכנה לבחינת הלשכה
ATTACH;FMTTYPE=image/png:https://ortalraisman.co.il/wp-content/uploads/2021/01/דף-פנימי-03-1024x1024-1-150x160-1.png
END:VEVENT
END:VCALENDAR