BEGIN:VCALENDAR
VERSION:2.0
PRODID:-// - ECPv6.1.3//NONSGML v1.0//EN
CALSCALE:GREGORIAN
METHOD:PUBLISH
X-ORIGINAL-URL:https://ortalraisman.co.il
X-WR-CALDESC:Events for 
REFRESH-INTERVAL;VALUE=DURATION:PT1H
X-Robots-Tag:noindex
X-PUBLISHED-TTL:PT1H
BEGIN:VTIMEZONE
TZID:Europe/Moscow
BEGIN:STANDARD
TZOFFSETFROM:+0300
TZOFFSETTO:+0300
TZNAME:MSK
DTSTART:20250101T000000
END:STANDARD
END:VTIMEZONE
BEGIN:VEVENT
DTSTART;TZID=Europe/Moscow:20251121T090000
DTEND;TZID=Europe/Moscow:20251121T133000
DTSTAMP:20260425T004434
CREATED:20210427T081727Z
LAST-MODIFIED:20250903T105019Z
UID:29500-1763715600-1763731800@ortalraisman.co.il
SUMMARY:יום מיקוד: הוצל"פ | עו״ד אורטל רייסמן
DESCRIPTION:חלק 1:\n \nחלק 2:
URL:https://ortalraisman.co.il/event/%d7%99%d7%95%d7%9d-%d7%9e%d7%99%d7%a7%d7%95%d7%93-%d7%94%d7%95%d7%a6%d7%9c%d7%a4/
CATEGORIES:ימי מיקוד,קורס BOOST,קורס ההכנה לבחינת הלשכה
ATTACH;FMTTYPE=image/png:https://ortalraisman.co.il/wp-content/uploads/2021/01/דף-פנימי-03-1024x1024-1-150x160-1.png
END:VEVENT
END:VCALENDAR