BEGIN:VCALENDAR
VERSION:2.0
PRODID:-//ortalraisman.co.il - ECPv5.5.0.1//NONSGML v1.0//EN
CALSCALE:GREGORIAN
METHOD:PUBLISH
X-WR-CALNAME:ortalraisman.co.il
X-ORIGINAL-URL:https://ortalraisman.co.il
X-WR-CALDESC:אירועים ל ortalraisman.co.il
BEGIN:VTIMEZONE
TZID:Europe/Moscow
BEGIN:STANDARD
TZOFFSETFROM:+0300
TZOFFSETTO:+0300
TZNAME:MSK
DTSTART:20210101T000000
END:STANDARD
END:VTIMEZONE
BEGIN:VEVENT
DTSTART;TZID=Europe/Moscow:20210420T170000
DTEND;TZID=Europe/Moscow:20210420T200000
DTSTAMP:20210503T011850
CREATED:20210224T155613Z
LAST-MODIFIED:20210418T062747Z
UID:28107-1618938000-1618948800@ortalraisman.co.il
SUMMARY:תאגידים - חלק ג'
DESCRIPTION:תוכן זה נגיש למנויים בלבד! היכנסו למערכת
URL:https://ortalraisman.co.il/event/%d7%aa%d7%90%d7%92%d7%99%d7%93%d7%99%d7%9d-%d7%97%d7%9c%d7%a7-%d7%92/
CATEGORIES:כללי
ATTACH;FMTTYPE=image/png:https://ortalraisman.co.il/wp-content/uploads/2021/01/דף-פנימי-03-1024x1024-1-150x160-1.png
END:VEVENT
END:VCALENDAR