BEGIN:VCALENDAR
VERSION:2.0
PRODID:-// - ECPv6.1.3//NONSGML v1.0//EN
CALSCALE:GREGORIAN
METHOD:PUBLISH
X-ORIGINAL-URL:https://ortalraisman.co.il
X-WR-CALDESC:Events for 
REFRESH-INTERVAL;VALUE=DURATION:PT1H
X-Robots-Tag:noindex
X-PUBLISHED-TTL:PT1H
BEGIN:VTIMEZONE
TZID:Europe/Moscow
BEGIN:STANDARD
TZOFFSETFROM:+0300
TZOFFSETTO:+0300
TZNAME:MSK
DTSTART:20250101T000000
END:STANDARD
END:VTIMEZONE
BEGIN:VEVENT
DTSTART;TZID=Europe/Moscow:20250921T090000
DTEND;TZID=Europe/Moscow:20250921T113000
DTSTAMP:20260425T014332
CREATED:20210407T084833Z
LAST-MODIFIED:20250909T121417Z
UID:28987-1758445200-1758454200@ortalraisman.co.il
SUMMARY:דיני תאגידים: שעבודים | עו״ד שלומי בן נחום
DESCRIPTION:אינכם בעלי הרשאות גישה מתאימות לתוכן זה!
URL:https://ortalraisman.co.il/event/%d7%aa%d7%90%d7%92%d7%99%d7%93%d7%99%d7%9d-%d7%97%d7%9c%d7%a7-%d7%94-%d7%a4%d7%99%d7%a8%d7%95%d7%a7%d7%99%d7%9d/
CATEGORIES:כללי,קורס ההכנה לבחינת הלשכה
ATTACH;FMTTYPE=image/png:https://ortalraisman.co.il/wp-content/uploads/2021/01/דף-פנימי-03-1024x1024-1-150x160-1.png
END:VEVENT
END:VCALENDAR